BEGIN:VCALENDAR
VERSION:2.0
PRODID:-//https://francomirabelli.it/francomirabelli.it///NONSGML kigkonsult.se iCalcreator 2.10.15//
METHOD:PUBLISH
BEGIN:VEVENT
UID:20260423T231033UTC-9819oNF5kn@https://francomirabelli.it/francomirabell
 i.it/
DTSTAMP:20260423T231033Z
DESCRIPTION:Da martedì 14 aprile a venerdì 17 aprile al Presidio del Sunia 
 sotto la sede di Aler in Viale Romagna a Milano.Da oggi siamo a fianco di 
 chi\, insieme al SUNIA di Milano\, manifesta per il diritto alla casa e pe
 r chiedere interventi e risorse per garantire alloggi a chi ha più bisogno
 . Milano ha più di altre realtà bisogno\, visto il caro affitti\, di polit
 iche pubbliche concrete per rispondere a questi bisogni. Il Comune ha mess
 o 50 milioni per sistemare 2.500 alloggi ERP e ha iniziato a farlo e ha me
 sso a disposizione diversi terreni propri per abbattere i costi e\, quindi
 \, gli affitti. Ma ciò che possono fare i Comuni - abbandonati da Governo 
 e Regione è insufficiente. Abbiamo al Governo una destra che ha azzerato i
  fondi per il sostegno all'affitto e per la morosità incolpevole e che\, s
 u una questione vitale per milioni di italiani quale è l’abitare\, in quat
 tro anni non ha fatto nulla. Ed è francamente scandaloso che il Ministro c
 ompetente\, Matteo Salvini\, non faccia nulla se non annunciare da anni og
 ni due mesi un piano casa fino ad ora inesistente e organizzare giri con l
 'elmetto in testa nei quartieri. Già è grave l'inerzia colpevole di questo
  Governo sull'abitare\, non è necessario prendere anche in giro chi ha bis
 ogno. È giusto protestare. https://francomirabelli.it/francomirabelli.it/m
 i-puoi-trovare-anche/Eventi/162-presidio-sunia-milano.html
DTSTART:20260414T100000Z
DTEND:20260414T200000Z
LOCATION:Sede Aler\, Viale Romagna\, Milano (Viale Romagna\, Milano)
SUMMARY:Presidio Sunia Milano
URL:https://francomirabelli.it/francomirabelli.it/mi-puoi-trovare-anche/Eve
 nti/162-presidio-sunia-milano.html
END:VEVENT
BEGIN:VEVENT
UID:20260423T231033UTC-9827uRjiZZ@https://francomirabelli.it/francomirabell
 i.it/
DTSTAMP:20260423T231033Z
DESCRIPTION:Sabato 18 aprile al Teatro Bruno Munari dalle ore&nbsp\;9.30 al
 le 13.00\, all'evento “Innamorarsi ancora - Progetto Milano 2050”.Un primo
  importante momento di ascolto e confronto organizzato dal PD mMetropolita
 no per guardare al futuro di Milano e della sua area metropolitana. https:
 //francomirabelli.it/francomirabelli.it/mi-puoi-trovare-anche/Eventi/163-i
 nnamorarsi-ancora-progetto-milano-2050.html
DTSTART:20260418T090000Z
DTEND:20260418T130000Z
LOCATION:Teatro Bruno Munari\, via Giovanni Bovio 5\, Milano (via Giovanni 
 Bovio 5\, Milano)
SUMMARY:Innamorarsi ancora - Progetto Milano 2050
URL:https://francomirabelli.it/francomirabelli.it/mi-puoi-trovare-anche/Eve
 nti/163-innamorarsi-ancora-progetto-milano-2050.html
END:VEVENT
BEGIN:VEVENT
UID:20260423T231033UTC-9832SoKRvB@https://francomirabelli.it/francomirabell
 i.it/
DTSTAMP:20260423T231033Z
DESCRIPTION:Venerdì 17 aprile alle ore 20.35 nel programma 'Il Cavallo e la
  Torre' in onda su Raitre.Video dell'intervista.Sintesi dell'intervista a 
 cura del Giorno e di QN. https://francomirabelli.it/francomirabelli.it/mi-
 puoi-trovare-anche/Eventi/164-il-cavallo-e-la-torre-raitre.html
DTSTART:20260417T203500Z
DTEND:20260417T210000Z
LOCATION:Raitre (Raitre)
SUMMARY:Il cavallo e la torre - Raitre
URL:https://francomirabelli.it/francomirabelli.it/mi-puoi-trovare-anche/Eve
 nti/164-il-cavallo-e-la-torre-raitre.html
END:VEVENT
END:VCALENDAR
