BEGIN:VCALENDAR
VERSION:2.0
PRODID:-//https://francomirabelli.it/francomirabelli.it///NONSGML kigkonsult.se iCalcreator 2.10.15//
METHOD:PUBLISH
BEGIN:VEVENT
UID:20260420T175249UTC-4170WTgSp0@https://francomirabelli.it/francomirabell
 i.it/
DTSTAMP:20260420T175249Z
DESCRIPTION:Martedì 20 settembre alle ore 11.00 in visita all’IPM Beccaria 
 con il sindaco di Milano.Commento all'incontro https://francomirabelli.it/
 francomirabelli.it/mi-puoi-trovare-anche/Eventi/79-visita-allipm-beccaria.
 html
DTSTART:20220920T110000Z
DTEND:20220920T130000Z
LOCATION:IPM Beccaria (Via dei Calchi Taeggi 20\, Milano)
SUMMARY:Visita all'IPM Beccaria
URL:https://francomirabelli.it/francomirabelli.it/mi-puoi-trovare-anche/Eve
 nti/79-visita-allipm-beccaria.html
END:VEVENT
END:VCALENDAR
