BEGIN:VCALENDAR
VERSION:2.0
PRODID:-//https://francomirabelli.it/francomirabelli.it///NONSGML kigkonsult.se iCalcreator 2.10.15//
METHOD:PUBLISH
BEGIN:VEVENT
UID:20260424T005756UTC-2940NN6Pkt@https://francomirabelli.it/francomirabell
 i.it/
DTSTAMP:20260424T005756Z
DESCRIPTION:Sabato 30 Novembre&nbsp\; alle ore 9.30 al CAM Garibaldi\, in C
 orso Garibaldi 27 a Milano per il convegno organizzato da Associazione Dem
 ocratici per Milano:\nL’AREA METROPOLITANA TRA CONTINUITÀ E INNOVAZIONE: I
 DEE PER IL FUTURO.\nore 9.30\nPresiede: Maurizio Belloni\, Direttore Assoc
 iazione Democratici per Milano\nSaluti:Franco Mirabelli\, Vicepresidente G
 ruppo PD al Senato - testo dell'interventoAlessandro Capelli\, Segretario 
 PD Milano Metropolitana\nIntroduzione generale: Marina Sereni\, Segreteria
  Nazionale PD (Salute e Sanità)\nPresentazione della discussione: Luca Eli
 a\, Segreteria PD Milano Metropolitana\nore 10.00 MOBILITÀ SOSTENIBILE E S
 PAZI URBANI\nModeratore: Sara Valmaggi\, Direttivo Associazione Democratic
 i per Milano\nDiscussant: Luca Tosi\, Direttore Agenzia per il Trasporto P
 ubblico Locale CM\, MB\, LO\, PV\nIntervengono:Arianna Censi\, Assessora a
 lla Mobilità del Comune di MilanoFrancesca Zajczyk\, Presidente Agenzia pe
 r il Trasporto Pubblico Locale CM\, MB\, LO\, PVFabio Bottero\, Consiglier
 e Comunale a Trezzano sul NaviglioAbdullah Badinjki\, Assessore Mobilità A
 mbiente Lavoro Comunicazione del Comune di PaulloMarco Cipriano\, Direzion
 e Metropolitana PDMario Bianco\, Direttivo Associazione Democratici per Mi
 lanoAlbino Mainardi\, Consigliere Comunale a Cerro al LambroLorenzo Fucci\
 , Sindaco di LiscateMattia Abdu\, Presidente del Municipio 1 di Milano\nor
 e 11.30 CASA E ABITARE OGGI IN UN CONTESTO METROPOLITANO\nModeratore: Luci
 ana Dambra\, Segreteria PD Milano Metropolitana\nDiscussant: Alessandro Ma
 ggioni\, Presidente Confcooperative Habitat\nIntervengono:Pierfrancesco Ma
 jorino\, Segreteria Nazionale PD (Politiche Migratorie e Diritti alla Casa
 )Guido Bardelli\, Assessore alla Casa del Comune di MilanoFederico Bottell
 i\, Presidente Commissione Casa del Comune di MilanoVincenzo Barbieri\, Pr
 esidente LUMMario Esposito\, Vicepresidente e Assessore del Municipio 9 di
  MilanoMarco Busseni\, Consiglio d’Amministrazione di Abitare Società Coop
 erativaDaniele Calvi\, Assemblea Metropolitana PDLucia Mantegazza\, Sindac
 a di Gessate\nore 12.45 Conclusioni di Silvia Roggiani\, Segretaria Region
 ale PD Lombardia https://francomirabelli.it/francomirabelli.it/mi-puoi-tro
 vare-anche/Eventi/145-larea-metropolitana-tra-continuita-e-innovazione-mil
 ano.html
DTSTART:20241130T093000Z
DTEND:20241130T133000Z
LOCATION:CAM GARIBALDI\, Corso Garibaldi 27\, Milano (Corso Garibaldi 27\, 
 Milano)
SUMMARY:L'Area Metropolitana tra continuità e innovazione - Milano
URL:https://francomirabelli.it/francomirabelli.it/mi-puoi-trovare-anche/Eve
 nti/145-larea-metropolitana-tra-continuita-e-innovazione-milano.html
END:VEVENT
END:VCALENDAR
