BEGIN:VCALENDAR
VERSION:2.0
PRODID:-//https://francomirabelli.it/francomirabelli.it///NONSGML kigkonsult.se iCalcreator 2.10.15//
METHOD:PUBLISH
BEGIN:VEVENT
UID:20260426T013207UTC-8448rSMF4U@https://francomirabelli.it/francomirabell
 i.it/
DTSTAMP:20260426T013207Z
DESCRIPTION:Sabato 30 maggio alle ore 9.30 al convegno organizzato da Assoc
 iazione Democratici per Milano 'CAREGIVER.&nbsp\;Come sostenere chi aiuta 
 chi ha più bisogno' presso la Sala delle ACLI Milano\, in via Della Signor
 a 3 a Milano.Programma:\nCAREGIVERCome sostenere chi aiuta chi ha più biso
 gno\nSaluti:Silvia Roggiani\, Segretaria Regionale PD LombardiaAlessandro 
 Capelli\, Segretario PD Milano MetropolitanaFranco Mirabelli\, Senatore PD
 \nIntroduce:&nbsp\;&nbsp\;Marina Sereni\, Responsabile Sanità Segreteria N
 azionale PD\nSi confrontano:Loredana Ligabue\, Segretaria CARC Associazion
 e Caregiver FamigliariDelfina Colombo\, Presidente ACLI MilanoNicoletta De
  Rossi\, Presidente Associazione ConSlancioGiovanni Merlo\, Direttore Ledh
 aSara Santagostino\, ANCI LombardiaLamberto Bertolè\, Assessore al Welfare
  del Comune di MilanoCarlo Borghetti\, Consigliere Regionale PD LombardiaR
 icercatore IRS\nConclude:Chiara Braga\, Capogruppo PD Camera dei DeputatiC
 oordina:&nbsp\;Paola Severini\, Giornalista\, ideatrice e conduttrice dell
 a trasmissione RAI 'O anche no!'Partecipano:Arianna Censi\, Fabio Bottero\
 , Luca Elia\, Maurizio Belloni\, Matteo Bianchi\, Maria Rita Vergani\, Luc
 iana Dambra. https://francomirabelli.it/francomirabelli.it/dove-incontrarc
 i-agenda-km-0/Eventi/167-caregiver-come-sostenere-chi-aiuta-chi-ha-piu-bis
 ogno-milano.html
DTSTART:20260530T093000Z
DTEND:20260530T133000Z
LOCATION:Sala ACLI Milano\, via Della Signora 3\,  Milano  (via Della Signo
 ra 3\,  Milano)
SUMMARY:Caregiver: Come sostenere chi aiuta chi ha più bisogno - Milano
URL:https://francomirabelli.it/francomirabelli.it/dove-incontrarci-agenda-k
 m-0/Eventi/167-caregiver-come-sostenere-chi-aiuta-chi-ha-piu-bisogno-milan
 o.html
END:VEVENT
END:VCALENDAR
