BEGIN:VCALENDAR
VERSION:2.0
PRODID:-//https://francomirabelli.it/francomirabelli.it///NONSGML kigkonsult.se iCalcreator 2.10.15//
METHOD:PUBLISH
BEGIN:VEVENT
UID:20260423T113013UTC-2011j8jzXU@https://francomirabelli.it/francomirabell
 i.it/
DTSTAMP:20260423T113013Z
DESCRIPTION:Venerdì 28 ottobre alle ore 21.00 ad Abbiategrasso all’assemble
 a antimafia 'La mafia si sconfigge conoscendola. Le infiltrazioni nel nost
 ro territorio e l'assenza della lotta alla mafia nella agenda politica' or
 ganizzata dalla Carovana Antimafia Nord Ovest. https://francomirabelli.it/
 francomirabelli.it/component/rseventspro/Eventi/77-la-mafia-si-sconfigge-c
 onoscendola-le-infiltrazioni-nel-nostro-territorio-e-lassenza-della-lotta-
 alla-mafia-nella-agenda-politica-abbiategrasso.html?Itemid=101
DTSTART:20221028T210000Z
DTEND:20221028T230000Z
LOCATION:Abbiategrasso (MI) (Abbiategrasso (MI))
SUMMARY:'La mafia si sconfigge conoscendola. Le infiltrazioni nel nostro te
 rritorio e l'assenza della lotta alla mafia nella agenda politica' - Abbia
 tegrasso
URL:https://francomirabelli.it/francomirabelli.it/component/rseventspro/Eve
 nti/77-la-mafia-si-sconfigge-conoscendola-le-infiltrazioni-nel-nostro-terr
 itorio-e-lassenza-della-lotta-alla-mafia-nella-agenda-politica-abbiategras
 so.html?Itemid=101
END:VEVENT
END:VCALENDAR
