BEGIN:VCALENDAR
VERSION:2.0
PRODID:-//https://francomirabelli.it/francomirabelli.it///NONSGML kigkonsult.se iCalcreator 2.10.15//
METHOD:PUBLISH
BEGIN:VEVENT
UID:20260426T030532UTC-5310Z23NgA@https://francomirabelli.it/francomirabell
 i.it/
DTSTAMP:20260426T030532Z
DESCRIPTION:Martedì 28 aprile alle ore 18.00 presso la Casa della Memoria\,
  in Via Confalonieri 14 a Milano\, alla presentazione del libro 'Mafia a M
 ilano e in Lombardia' di Giampiero Rossi\, Mario Portanova e Franco Stefan
 oni. https://francomirabelli.it/francomirabelli.it/component/rseventspro/E
 venti/165-presentazione-del-libro-mafia-a-milano-e-in-lombardia.html?Itemi
 d=101
DTSTART:20260428T180000Z
DTEND:20260428T200000Z
LOCATION:Casa della Memoria\, in Via Confalonieri 14 a Milano (Via Confalon
 ieri 14\, Milano)
SUMMARY:Presentazione del libro 'Mafia a Milano e in Lombardia'
URL:https://francomirabelli.it/francomirabelli.it/component/rseventspro/Eve
 nti/165-presentazione-del-libro-mafia-a-milano-e-in-lombardia.html?Itemid=
 101
END:VEVENT
END:VCALENDAR
