BEGIN:VCALENDAR
VERSION:2.0
PRODID:-//https://francomirabelli.it/francomirabelli.it///NONSGML kigkonsult.se iCalcreator 2.10.15//
METHOD:PUBLISH
BEGIN:VEVENT
UID:20260420T101904UTC-8014Hf0d3l@https://francomirabelli.it/francomirabell
 i.it/
DTSTAMP:20260420T101904Z
DESCRIPTION:Sabato 18 aprile al Teatro Bruno Munari dalle ore&nbsp\;9.30 al
 le 13.00\, all'evento “Innamorarsi ancora - Progetto Milano 2050”.Un primo
  importante momento di ascolto e confronto organizzato dal PD mMetropolita
 no per guardare al futuro di Milano e della sua area metropolitana. https:
 //francomirabelli.it/francomirabelli.it/component/rseventspro/Eventi/163-i
 nnamorarsi-ancora-progetto-milano-2050.html?Itemid=101
DTSTART:20260418T090000Z
DTEND:20260418T130000Z
LOCATION:Teatro Bruno Munari\, via Giovanni Bovio 5\, Milano (via Giovanni 
 Bovio 5\, Milano)
SUMMARY:Innamorarsi ancora - Progetto Milano 2050
URL:https://francomirabelli.it/francomirabelli.it/component/rseventspro/Eve
 nti/163-innamorarsi-ancora-progetto-milano-2050.html?Itemid=101
END:VEVENT
END:VCALENDAR
