BEGIN:VCALENDAR
VERSION:2.0
PRODID:-//https://francomirabelli.it/francomirabelli.it///NONSGML kigkonsult.se iCalcreator 2.10.15//
METHOD:PUBLISH
BEGIN:VEVENT
UID:20260423T051510UTC-4007UzIwtL@https://francomirabelli.it/francomirabell
 i.it/
DTSTAMP:20260423T051510Z
DESCRIPTION:Venerdì 4 ottobre alle ore 18.00 presso la Libreria Mondadori i
 n Piazza del Duomo a Milano alla Presentazione del nuovo libro di Dario Fr
 anceschini 'Aqua e Tera'\, edito da La Nave di Teseo. https://francomirabe
 lli.it/francomirabelli.it/component/rseventspro/Eventi/142-presentazione-d
 el-libro-di-dario-franceschini-aqua-e-tera-milano.html?Itemid=101
DTSTART:20241004T183000Z
DTEND:20241004T203000Z
LOCATION:Mondadori Store\, Piazza Duomo\, Milano (Piazza Duomo\, Milano)
SUMMARY:Presentazione del libro di Dario Franceschini 'Aqua e Tera' - Milan
 o
URL:https://francomirabelli.it/francomirabelli.it/component/rseventspro/Eve
 nti/142-presentazione-del-libro-di-dario-franceschini-aqua-e-tera-milano.h
 tml?Itemid=101
END:VEVENT
END:VCALENDAR
